BEGIN:VCALENDAR
VERSION:2.0
PRODID:-//ADECOSE - ECPv6.15.18//NONSGML v1.0//EN
CALSCALE:GREGORIAN
METHOD:PUBLISH
X-WR-CALNAME:ADECOSE
X-ORIGINAL-URL:https://www.adecose.com
X-WR-CALDESC:Eventos para ADECOSE
REFRESH-INTERVAL;VALUE=DURATION:PT1H
X-Robots-Tag:noindex
X-PUBLISHED-TTL:PT1H
BEGIN:VTIMEZONE
TZID:Europe/Madrid
BEGIN:DAYLIGHT
TZOFFSETFROM:+0100
TZOFFSETTO:+0200
TZNAME:CEST
DTSTART:20220327T010000
END:DAYLIGHT
BEGIN:STANDARD
TZOFFSETFROM:+0200
TZOFFSETTO:+0100
TZNAME:CET
DTSTART:20221030T010000
END:STANDARD
BEGIN:DAYLIGHT
TZOFFSETFROM:+0100
TZOFFSETTO:+0200
TZNAME:CEST
DTSTART:20230326T010000
END:DAYLIGHT
BEGIN:STANDARD
TZOFFSETFROM:+0200
TZOFFSETTO:+0100
TZNAME:CET
DTSTART:20231029T010000
END:STANDARD
BEGIN:DAYLIGHT
TZOFFSETFROM:+0100
TZOFFSETTO:+0200
TZNAME:CEST
DTSTART:20240331T010000
END:DAYLIGHT
BEGIN:STANDARD
TZOFFSETFROM:+0200
TZOFFSETTO:+0100
TZNAME:CET
DTSTART:20241027T010000
END:STANDARD
END:VTIMEZONE
BEGIN:VEVENT
DTSTART;TZID=Europe/Madrid:20231019T163000
DTEND;TZID=Europe/Madrid:20231019T190000
DTSTAMP:20260423T020705
CREATED:20221104T124705Z
LAST-MODIFIED:20221222T113937Z
UID:13119-1697733000-1697742000@www.adecose.com
SUMMARY:Reunión Junta Directiva octubre 2023
DESCRIPTION:
URL:https://www.adecose.com/adecose-eventos/reunion-junta-directiva-octubre-2023/
CATEGORIES:Privados
END:VEVENT
END:VCALENDAR